BEGIN:VCALENDAR
VERSION:2.0
PRODID:-//TYPO3/NONSGML Calendarize//EN
BEGIN:VEVENT
UID:calendarize-15793
DTSTAMP:20230609
DTSTART:20231123T070000Z
DTEND:20231125T000000Z
SUMMARY:Deutscher Schulleitungskongress (DSLK)
DESCRIPTION:&lt;p&gt;Die größte Veranstaltung für Schulleitungen und sc
 hulische Führungskräfte im deutschsprachigen Raum unter Schirmherrschaft
  der Kultusministerkonferenz mit 3000 Teilnehmenden. Über 60 Top-Speaker 
 liefern spannenden Input. Intensiver Austausch und wertvolle Networking-Ge
 legenheiten garantiert.&lt;/p&gt;
&lt;p&gt;Der DSLK-Schulpreis Bildung für nachhaltige Entwicklung wird ers
 tmals auf dem Deutschen Schulleitungskongress 2023 vergeben.&lt;/p&gt;
&lt;p&gt;Topthemenfelder für 2023:&lt;/p&gt;
&lt;ul&gt; 	&lt;li&gt;Führung mit Persönlichkeit&lt;/li&gt; 	&lt;li&gt;M
 it Schulkultur begeistern&lt;/li&gt; 	&lt;li&gt;Umweltschutz und Nachhalti
 gkeit leben&lt;/li&gt; 	&lt;li&gt;Schul- und Unterrichtsentwicklung neu de
 nken&lt;/li&gt; 	&lt;li&gt;Mit Digitalisierung in die Zukunft&lt;/li&gt; &
 lt;/ul&gt;
&lt;p&gt;&lt;br /&gt; &lt;strong&gt;BLLV-Mitglieder nehmen zum ERMÄSSIGTE
 N PREIS teil. Den RABATTCODE finden Sie &lt;a href=&quot;t3://page?uid=806
 0&quot;&gt;» HIER&lt;/a&gt;&lt;/strong&gt;&lt;/p&gt;
LOCATION:Düsseldorf
END:VEVENT
END:VCALENDAR
