BEGIN:VCALENDAR
VERSION:2.0
PRODID:-//TYPO3/NONSGML Calendarize//EN
BEGIN:VEVENT
UID:calendarize-13110
DTSTAMP:20230614
DTSTART:20230704T120000Z
DTEND:20230704T150000Z
SUMMARY:Präsentation des mobilen Demokratielabors
DESCRIPTION:&lt;p&gt;Das mobile Demokratielabor schafft einen Raum für sp
 ielerisches Verstehen von Demokratie in der Schule. Die bunte Materialsamm
 lung bietet Anknüpfungspunkte für Demokratiebildung im Fachunterricht un
 d zu unterrichtsübergreifenden Themen wie Mobbing, Diversität und Mitbes
 timmung, sowie der sozialen Arbeit an der Schule. So wird Demokratie im Kl
 einen erlebbar und ermutigt dazu, aktiv an der Gesellschaft teilzuhaben.&l
 t;/p&gt;
&lt;p&gt;&lt;strong&gt;Alle Infos und Anmeldung unter: &lt;a href=&quot;ht
 tps://www.gesichtzeigen.de/praesentation-des-mobilen-demokratielabors-in-m
 uenchen/&quot;&gt;https://www.gesichtzeigen.de/praesentation-des-mobilen-d
 emokratielabors-in-muenchen/&lt;/a&gt;&lt;/strong&gt;&lt;/p&gt;
LOCATION:Städtisches Theodolinden-Gymnasium (Am Staudengarten 2, 81547 Mü
 nchen)
END:VEVENT
END:VCALENDAR
