BEGIN:VCALENDAR
VERSION:2.0
PRODID:-//TYPO3/NONSGML Calendarize//EN
BEGIN:VEVENT
UID:calendarize-18604
DTSTAMP:20251125
DTSTART:20251212T130000Z
DTEND:20251212T170000Z
SUMMARY:Symposium: An Anxiety Afternoon
DESCRIPTION:&lt;p&gt;&lt;strong&gt;An Anxiety Afternoon: Die Angst vor dem
  Sprechen fremder Sprachen&lt;/strong&gt;&lt;/p&gt;
&lt;p&gt;Tauchen Sie ein in eines der zentralen Themen des Fremdsprachenle
 rnens: die Angst vor der Fremdsprache, genauer vor dem Sprechen. Mit inter
 national renommierten Expertinnen und Experten aus dem Fachbereich beleuch
 tet das Symposium „An Anxiety Afternoon“ die vielschichtigen Facetten 
 von Sprech- und Kommunikationsangst im Fremdsprachenkontext – aus neurob
 iologischer, psychologischer, didaktischer sowie praxisorientierter Perspe
 ktive.&lt;/p&gt;
&lt;p&gt;&lt;strong&gt;Programm:&amp;nbsp;&lt;/strong&gt;&lt;/p&gt;
&lt;p&gt;14:15 Uhr &amp;nbsp; &amp;nbsp; &amp;nbsp; &amp;nbsp; &amp;nbsp; 
 &amp;nbsp; &amp;nbsp; &amp;nbsp; &amp;nbsp; &amp;nbsp; &amp;nbsp; Begrüß
 ung&amp;nbsp;&lt;/p&gt;
&lt;p&gt;14:30&lt;strong&gt; &lt;/strong&gt;Uhr &amp;nbsp; &amp;nbsp;&lt;s
 trong&gt; &amp;nbsp; &amp;nbsp; &amp;nbsp; &amp;nbsp; &amp;nbsp; &amp;nbsp
 ; &amp;nbsp; &amp;nbsp; &amp;nbsp; Heiner Böttger: &lt;/strong&gt;Englisc
 he Sprechangst messen - jenseits der Horwitz-Skala&amp;nbsp;&lt;/p&gt;
&lt;p&gt;15:00 bis 15:30 Uhr &amp;nbsp; &amp;nbsp;&lt;strong&gt;Natalia Ti
 lton&lt;/strong&gt;: Sprechangst internationaler Studierender&lt;/p&gt;
&lt;p&gt;&lt;i&gt;&amp;nbsp; &amp;nbsp; &amp;nbsp; &amp;nbsp; &amp;nbsp; &
 amp;nbsp; &amp;nbsp; &amp;nbsp; &amp;nbsp; &amp;nbsp; &amp;nbsp; &amp;nbsp
 ; &amp;nbsp; &amp;nbsp; &amp;nbsp; &amp;nbsp; &amp;nbsp;Pause&lt;/i&gt;&lt
 ;/p&gt;
&lt;p&gt;16:00 bis 16:45 Uhr&lt;strong&gt; &amp;nbsp; &amp;nbsp;Joseph LeD
 oux: &lt;/strong&gt;What Happened to the “Mental” in “Mental” Diso
 rders?&lt;/p&gt;
&lt;p&gt;16:45 bis 17:00 Uhr &amp;nbsp; &amp;nbsp;&lt;strong&gt;Harald Hen
 riksson&lt;/strong&gt;: Sprachangst aus der Sicht einer Lehrkraft&lt;/p&gt
 ;
&lt;p&gt;&lt;i&gt;&amp;nbsp; &amp;nbsp; &amp;nbsp; &amp;nbsp; &amp;nbsp; &
 amp;nbsp; &amp;nbsp; &amp;nbsp; &amp;nbsp; &amp;nbsp; &amp;nbsp; &amp;nbsp
 ; &amp;nbsp; &amp;nbsp; &amp;nbsp; &amp;nbsp; &amp;nbsp;Pause&amp;nbsp;&lt
 ;/i&gt;&lt;/p&gt;
&lt;p&gt;17:20 bis 17:50 Uhr&lt;strong&gt; &amp;nbsp; &amp;nbsp;Karla Jens
 en: &lt;/strong&gt;Empowered Public Speaking: Cultivating Confidence With 
 Mindfulness&amp;nbsp;&lt;/p&gt;
&lt;p&gt;17:50 Uhr &amp;nbsp; &amp;nbsp; &amp;nbsp; &amp;nbsp; &amp;nbsp; 
 &amp;nbsp; &amp;nbsp; &amp;nbsp; &amp;nbsp; &amp;nbsp; &amp;nbsp;Verabschi
 edung&lt;/p&gt;
&lt;p&gt;&lt;a href=&quot;t3://file?uid=63006&quot;&gt;&lt;strong&gt;&amp;
 gt;&amp;gt; ZUR EINLADUNG&lt;/strong&gt;&lt;/a&gt;&lt;/p&gt;
&lt;p&gt;Die Teilnehmendenzahl vor Ort ist auf 50 Personen und online auf 
 300 Personen begrenzt.&amp;nbsp;&lt;br /&gt;Jetzt anmelden und Plätze sic
 hern!&lt;/p&gt;
LOCATION:Katholische Universität Eichstätt-Ingolstadt, UA 141 ODER onlin
 e
END:VEVENT
END:VCALENDAR
